BEGIN:VCALENDAR
VERSION:2.0
PRODID:-//Columbine Garden Club - ECPv6.15.20//NONSGML v1.0//EN
CALSCALE:GREGORIAN
METHOD:PUBLISH
X-WR-CALNAME:Columbine Garden Club
X-ORIGINAL-URL:https://columbinegardenclub.com
X-WR-CALDESC:Events for Columbine Garden Club
REFRESH-INTERVAL;VALUE=DURATION:PT1H
X-Robots-Tag:noindex
X-PUBLISHED-TTL:PT1H
BEGIN:VTIMEZONE
TZID:America/Denver
BEGIN:DAYLIGHT
TZOFFSETFROM:-0700
TZOFFSETTO:-0600
TZNAME:MDT
DTSTART:20220313T090000
END:DAYLIGHT
BEGIN:STANDARD
TZOFFSETFROM:-0600
TZOFFSETTO:-0700
TZNAME:MST
DTSTART:20221106T080000
END:STANDARD
BEGIN:DAYLIGHT
TZOFFSETFROM:-0700
TZOFFSETTO:-0600
TZNAME:MDT
DTSTART:20230312T090000
END:DAYLIGHT
BEGIN:STANDARD
TZOFFSETFROM:-0600
TZOFFSETTO:-0700
TZNAME:MST
DTSTART:20231105T080000
END:STANDARD
BEGIN:DAYLIGHT
TZOFFSETFROM:-0700
TZOFFSETTO:-0600
TZNAME:MDT
DTSTART:20240310T090000
END:DAYLIGHT
BEGIN:STANDARD
TZOFFSETFROM:-0600
TZOFFSETTO:-0700
TZNAME:MST
DTSTART:20241103T080000
END:STANDARD
END:VTIMEZONE
BEGIN:VEVENT
DTSTART;TZID=America/Denver:20230429T130000
DTEND;TZID=America/Denver:20230429T153000
DTSTAMP:20260425T151018
CREATED:20230129T062940Z
LAST-MODIFIED:20230326T171146Z
UID:508-1682773200-1682782200@columbinegardenclub.com
SUMMARY:Speed Dating with Master Gardeners
DESCRIPTION:Each of six tables will have a master gardener at the table.  Each table will have a specific topic.  Topics may include: \n\nSpring Cleanup\nNative plants\nMountain Soils\nGrowing veggies\nPollinators\nWeeds\nSolar Greenhouses\n\nThe master gardener will present a few interesting details about the topic and then participants will get to ask the MG their own questions.  Participants spend 15 minutes at a table and then rotate to the next.  All are welcome. Advance registration will be required. \nPlease enable JavaScript in your browser to complete this form.Name *Last Name *Email *Register
URL:https://columbinegardenclub.com/event/mountain-gardening-101-master-gardner-roundtable/
LOCATION:Idaho Springs Visitor Center\, 2060 Miner St\, Idaho Springs\, CO\, 80452\, United States
END:VEVENT
END:VCALENDAR