BEGIN:VCALENDAR
VERSION:2.0
PRODID:-//Columbine Garden Club - ECPv6.15.20//NONSGML v1.0//EN
CALSCALE:GREGORIAN
METHOD:PUBLISH
X-WR-CALNAME:Columbine Garden Club
X-ORIGINAL-URL:https://columbinegardenclub.com
X-WR-CALDESC:Events for Columbine Garden Club
REFRESH-INTERVAL;VALUE=DURATION:PT1H
X-Robots-Tag:noindex
X-PUBLISHED-TTL:PT1H
BEGIN:VTIMEZONE
TZID:America/Denver
BEGIN:DAYLIGHT
TZOFFSETFROM:-0700
TZOFFSETTO:-0600
TZNAME:MDT
DTSTART:20230312T090000
END:DAYLIGHT
BEGIN:STANDARD
TZOFFSETFROM:-0600
TZOFFSETTO:-0700
TZNAME:MST
DTSTART:20231105T080000
END:STANDARD
BEGIN:DAYLIGHT
TZOFFSETFROM:-0700
TZOFFSETTO:-0600
TZNAME:MDT
DTSTART:20240310T090000
END:DAYLIGHT
BEGIN:STANDARD
TZOFFSETFROM:-0600
TZOFFSETTO:-0700
TZNAME:MST
DTSTART:20241103T080000
END:STANDARD
BEGIN:DAYLIGHT
TZOFFSETFROM:-0700
TZOFFSETTO:-0600
TZNAME:MDT
DTSTART:20250309T090000
END:DAYLIGHT
BEGIN:STANDARD
TZOFFSETFROM:-0600
TZOFFSETTO:-0700
TZNAME:MST
DTSTART:20251102T080000
END:STANDARD
BEGIN:DAYLIGHT
TZOFFSETFROM:-0700
TZOFFSETTO:-0600
TZNAME:MDT
DTSTART:20260308T090000
END:DAYLIGHT
BEGIN:STANDARD
TZOFFSETFROM:-0600
TZOFFSETTO:-0700
TZNAME:MST
DTSTART:20261101T080000
END:STANDARD
BEGIN:DAYLIGHT
TZOFFSETFROM:-0700
TZOFFSETTO:-0600
TZNAME:MDT
DTSTART:20270314T090000
END:DAYLIGHT
BEGIN:STANDARD
TZOFFSETFROM:-0600
TZOFFSETTO:-0700
TZNAME:MST
DTSTART:20271107T080000
END:STANDARD
END:VTIMEZONE
BEGIN:VEVENT
DTSTART;TZID=America/Denver:20260409T180000
DTEND;TZID=America/Denver:20260409T200000
DTSTAMP:20260423T154426
CREATED:20260409T031744Z
LAST-MODIFIED:20260409T031744Z
UID:1585-1775757600-1775764800@columbinegardenclub.com
SUMMARY:April Evening Meeting
DESCRIPTION:We are trying out an evening meeting to accommodate members who work during the day and cannot attend our midday meetings.  We will continue working on our mosaic projects at this meeting and share some information about the club with new and potential members.
URL:https://columbinegardenclub.com/event/april-evening-meeting/
LOCATION:Elks Lodge Idaho Springs\, 1600 Colorado Blvd.\, Idaho Springs\, CO\, 80452\, United States
END:VEVENT
BEGIN:VEVENT
DTSTART;TZID=America/Denver:20260409T120000
DTEND;TZID=America/Denver:20260409T143000
DTSTAMP:20260423T154426
CREATED:20250807T020328Z
LAST-MODIFIED:20260303T143544Z
UID:1400-1775736000-1775745000@columbinegardenclub.com
SUMMARY:April Meeting
DESCRIPTION:Tobi Howell and Michelle Tyler will help us make mosaics on stepping stones\, bricks or other items for the garden.  Bring an item to mosaic.  We will elect new officers for next year. \nApril 9 Meeting\n 
URL:https://columbinegardenclub.com/event/march-meeting-4/
LOCATION:Elks Lodge Idaho Springs\, 1600 Colorado Blvd.\, Idaho Springs\, CO\, 80452\, United States
END:VEVENT
BEGIN:VEVENT
DTSTART;TZID=America/Denver:20260312T120000
DTEND;TZID=America/Denver:20260312T143000
DTSTAMP:20260423T154426
CREATED:20250807T020521Z
LAST-MODIFIED:20260303T143122Z
UID:1402-1773316800-1773325800@columbinegardenclub.com
SUMMARY:March Meeting
DESCRIPTION:We will have a presentation on pollinators in the garden.
URL:https://columbinegardenclub.com/event/april-meeting-4/
LOCATION:Elks Lodge Idaho Springs\, 1600 Colorado Blvd.\, Idaho Springs\, CO\, 80452\, United States
END:VEVENT
BEGIN:VEVENT
DTSTART;TZID=America/Denver:20260212T120000
DTEND;TZID=America/Denver:20260212T143000
DTSTAMP:20260423T154426
CREATED:20250807T020050Z
LAST-MODIFIED:20260303T143201Z
UID:1398-1770897600-1770906600@columbinegardenclub.com
SUMMARY:February Meeting
DESCRIPTION:Debbi Novotny will give a presentation on hydroponics.  We will also be nominating officers for next year. \n 
URL:https://columbinegardenclub.com/event/february-meeting-4/
LOCATION:Elks Lodge Idaho Springs\, 1600 Colorado Blvd.\, Idaho Springs\, CO\, 80452\, United States
END:VEVENT
BEGIN:VEVENT
DTSTART;TZID=America/Denver:20260108T120000
DTEND;TZID=America/Denver:20260108T143000
DTSTAMP:20260423T154426
CREATED:20250807T015455Z
LAST-MODIFIED:20250807T015455Z
UID:1396-1767873600-1767882600@columbinegardenclub.com
SUMMARY:January Meeting
DESCRIPTION:Dinner and a movie
URL:https://columbinegardenclub.com/event/january-meeting-4/
LOCATION:Elks Lodge Idaho Springs\, 1600 Colorado Blvd.\, Idaho Springs\, CO\, 80452\, United States
END:VEVENT
BEGIN:VEVENT
DTSTART;TZID=America/Denver:20251213T130000
DTEND;TZID=America/Denver:20251213T170000
DTSTAMP:20260423T154426
CREATED:20250807T014742Z
LAST-MODIFIED:20250807T014742Z
UID:1394-1765630800-1765645200@columbinegardenclub.com
SUMMARY:Christmas Party
DESCRIPTION:The club will provide ham and turkey\, as well as drinks.  Please bring a side dish or dessert to share.
URL:https://columbinegardenclub.com/event/christmas-party/
LOCATION:Debbi Novotny’s Home\, 121 Mill Creek Road\, Dumont\, Colorado\, 80436
END:VEVENT
BEGIN:VEVENT
DTSTART;TZID=America/Denver:20251113T120000
DTEND;TZID=America/Denver:20251113T143000
DTSTAMP:20260423T154426
CREATED:20250807T014547Z
LAST-MODIFIED:20250807T014547Z
UID:1392-1763035200-1763044200@columbinegardenclub.com
SUMMARY:November Meeting
DESCRIPTION:Wendy Benninger will help us make wreaths for the holidays.  You can bring a wreath to decorate or purchase a wreath for $10.
URL:https://columbinegardenclub.com/event/november-meeting-3/
LOCATION:Elks Lodge Idaho Springs\, 1600 Colorado Blvd.\, Idaho Springs\, CO\, 80452\, United States
END:VEVENT
BEGIN:VEVENT
DTSTART;TZID=America/Denver:20251009T120000
DTEND;TZID=America/Denver:20251009T143000
DTSTAMP:20260423T154426
CREATED:20250807T014150Z
LAST-MODIFIED:20250807T014326Z
UID:1390-1760011200-1760020200@columbinegardenclub.com
SUMMARY:October Meeting
DESCRIPTION:A representative from the Wildlands Restoration Volunteers will share information about the wonderful work they are doing in Idaho Springs and other parts of Colorado.  You can learn more about them at wrv.org.
URL:https://columbinegardenclub.com/event/october-meeting-3/
LOCATION:Elks Lodge Idaho Springs\, 1600 Colorado Blvd.\, Idaho Springs\, CO\, 80452\, United States
END:VEVENT
BEGIN:VEVENT
DTSTART;TZID=America/Denver:20250911T120000
DTEND;TZID=America/Denver:20250911T143000
DTSTAMP:20260423T154426
CREATED:20250807T013657Z
LAST-MODIFIED:20250807T013657Z
UID:1388-1757592000-1757601000@columbinegardenclub.com
SUMMARY:September Meeting
DESCRIPTION:Welcome back meeting!  We will have a seed exchange so bring seeds from your garden.  This meeting will be held in the Underhill garden if the weather cooperates.
URL:https://columbinegardenclub.com/event/september-meeting-3/
LOCATION:Underhill Museum\, 1414 Miner St\, Idaho Springs\, CO\, 80452\, United States
END:VEVENT
BEGIN:VEVENT
DTSTART;TZID=America/Denver:20250813T130000
DTEND;TZID=America/Denver:20250813T160000
DTSTAMP:20260423T154426
CREATED:20250730T135655Z
LAST-MODIFIED:20250809T144238Z
UID:1384-1755090000-1755100800@columbinegardenclub.com
SUMMARY:Blossoms and Beverages Garden Tour
DESCRIPTION:Start at 1 PM at Debbi Novotny’s – 121 Mill Creek Rd.\nThen at 2PM go to Stephanie Blocher’s – 852 Mill Creek Rd.\nEnd up at Sandy Meier’s at 3PM – 1167 Mill Creek Rd.
URL:https://columbinegardenclub.com/event/blossoms-and-beverages/
LOCATION:Debbi Novotny’s Home\, 121 Mill Creek Road\, Dumont\, Colorado\, 80436
END:VEVENT
BEGIN:VEVENT
DTSTART;TZID=America/Denver:20250722T150000
DTEND;TZID=America/Denver:20250722T180000
DTSTAMP:20260423T154426
CREATED:20250714T141925Z
LAST-MODIFIED:20250714T142103Z
UID:1361-1753196400-1753207200@columbinegardenclub.com
SUMMARY:Blossoms and Beverages Garden Tour
DESCRIPTION:We will start at Susy Foley’s garden at 3:00\, followed by Kerry Tierney’s at 4:00\, and finally Tobi Howell’s at 5:00.  We can take some time to visit\, get garden ideas\, and have a light snack and drink.\n\nThe locations are:\nSusy Foley\n1146 Colorado Blvd\n\nKerry Tierney\n417 15th Ave\n\nTobi Howell\n399 Virginia Canyon Rd.
URL:https://columbinegardenclub.com/event/blossoms-and-beverages-garden-tour/
LOCATION:Susy Foley’s\, 1146 Colorado Blvd\, Idaho Springs\, CO\, 80452\, United States
END:VEVENT
BEGIN:VEVENT
DTSTART;TZID=America/Denver:20250607T100000
DTEND;TZID=America/Denver:20250607T150000
DTSTAMP:20260423T154426
CREATED:20250208T210937Z
LAST-MODIFIED:20250208T210937Z
UID:1209-1749290400-1749308400@columbinegardenclub.com
SUMMARY:CGC Annual Plant Sale
DESCRIPTION:
URL:https://columbinegardenclub.com/event/cgc-annual-plant-sale-2/
LOCATION:CO
END:VEVENT
BEGIN:VEVENT
DTSTART;TZID=America/Denver:20250606T100000
DTEND;TZID=America/Denver:20250606T160000
DTSTAMP:20260423T154426
CREATED:20250208T210855Z
LAST-MODIFIED:20250208T210855Z
UID:1207-1749204000-1749225600@columbinegardenclub.com
SUMMARY:CGC Annual Plant Sale
DESCRIPTION:
URL:https://columbinegardenclub.com/event/cgc-annual-plant-sale/
LOCATION:CO
END:VEVENT
BEGIN:VEVENT
DTSTART;TZID=America/Denver:20250605T150000
DTEND;TZID=America/Denver:20250605T180000
DTSTAMP:20260423T154426
CREATED:20250208T210745Z
LAST-MODIFIED:20250208T210745Z
UID:1205-1749135600-1749146400@columbinegardenclub.com
SUMMARY:CGC Members and Friends only Plant Sale
DESCRIPTION:
URL:https://columbinegardenclub.com/event/cgc-members-and-friends-only-plant-sale/
LOCATION:CO
END:VEVENT
BEGIN:VEVENT
DTSTART;TZID=America/Denver:20250605T080000
DTEND;TZID=America/Denver:20250605T100000
DTSTAMP:20260423T154426
CREATED:20250522T213045Z
LAST-MODIFIED:20250522T213045Z
UID:1308-1749110400-1749117600@columbinegardenclub.com
SUMMARY:Plant Delivery for Plant Sale
DESCRIPTION:Volunteers needed to help unload plants.
URL:https://columbinegardenclub.com/event/plant-delivery-for-plant-sale/
LOCATION:Elks Lodge Idaho Springs\, 1600 Colorado Blvd.\, Idaho Springs\, CO\, 80452\, United States
END:VEVENT
BEGIN:VEVENT
DTSTART;TZID=America/Denver:20250601T110000
DTEND;TZID=America/Denver:20250601T143000
DTSTAMP:20260423T154426
CREATED:20250411T155144Z
LAST-MODIFIED:20250613T030902Z
UID:1268-1748775600-1748788200@columbinegardenclub.com
SUMMARY:Planting for the Elks Landscape Project
DESCRIPTION:
URL:https://columbinegardenclub.com/event/planting-for-the-elks-landscape-project/
LOCATION:Elks Lodge Idaho Springs\, 1600 Colorado Blvd.\, Idaho Springs\, CO\, 80452\, United States
END:VEVENT
BEGIN:VEVENT
DTSTART;TZID=America/Denver:20250523T090000
DTEND;TZID=America/Denver:20250525T160000
DTSTAMP:20260423T154426
CREATED:20250411T221545Z
LAST-MODIFIED:20250411T221725Z
UID:1284-1747990800-1748188800@columbinegardenclub.com
SUMMARY:Mill Creek Valley Historical Society Yard Sale
DESCRIPTION:
URL:https://columbinegardenclub.com/event/mill-creek-valley-historical-society-yard-sale/
LOCATION:Dumont Scool
END:VEVENT
BEGIN:VEVENT
DTSTART;VALUE=DATE:20250517
DTEND;VALUE=DATE:20250518
DTSTAMP:20260423T154426
CREATED:20250320T044559Z
LAST-MODIFIED:20250320T044559Z
UID:1251-1747440000-1747526399@columbinegardenclub.com
SUMMARY:Idaho Springs City Clean Up
DESCRIPTION:Volunteers are needed to help clean up along the water-wheel area.\nIf you can help\, please let Nancy Spletzer know.
URL:https://columbinegardenclub.com/event/idaho-springs-city-clean-up/
LOCATION:CO
END:VEVENT
BEGIN:VEVENT
DTSTART;TZID=America/Denver:20250516T173000
DTEND;TZID=America/Denver:20250516T230000
DTSTAMP:20260423T154426
CREATED:20250411T155718Z
LAST-MODIFIED:20250411T221005Z
UID:1270-1747416600-1747436400@columbinegardenclub.com
SUMMARY:Historical Society of Idaho Springs Gala
DESCRIPTION:Come out and support the Historical Society.  There will be dinner\, live and silent auctions\, a band\, and dancing!
URL:https://columbinegardenclub.com/event/historical-society-gala/
LOCATION:Blackstone Rivers Ranch\, 3673 Chicago Creek Rd.\, Idaho Springs\, CO\, 80452\, United States
END:VEVENT
BEGIN:VEVENT
DTSTART;TZID=America/Denver:20250510T100000
DTEND;TZID=America/Denver:20250510T160000
DTSTAMP:20260423T154426
CREATED:20250213T001135Z
LAST-MODIFIED:20250213T001135Z
UID:1211-1746871200-1746892800@columbinegardenclub.com
SUMMARY:Plant Giveaway and Bake Sale
DESCRIPTION:
URL:https://columbinegardenclub.com/event/plant-giveaway-and-bake-sale/
LOCATION:Project Support Senior Center\, 1402 Miner St\, Idaho Springs\, CO\, 80452\, United States
END:VEVENT
BEGIN:VEVENT
DTSTART;TZID=America/Denver:20250508T120000
DTEND;TZID=America/Denver:20250508T150000
DTSTAMP:20260423T154426
CREATED:20240911T191326Z
LAST-MODIFIED:20250411T161526Z
UID:1099-1746705600-1746716400@columbinegardenclub.com
SUMMARY:May Meeting
DESCRIPTION:Rock Painting with Larrice Sell and Wendy Binninger
URL:https://columbinegardenclub.com/event/may-meeting-3/
LOCATION:Elks Lodge Idaho Springs\, 1600 Colorado Blvd.\, Idaho Springs\, CO\, 80452\, United States
END:VEVENT
BEGIN:VEVENT
DTSTART;TZID=America/Denver:20250503T120000
DTEND;TZID=America/Denver:20250503T120000
DTSTAMP:20260423T154426
CREATED:20250411T160611Z
LAST-MODIFIED:20250411T221208Z
UID:1274-1746273600-1746273600@columbinegardenclub.com
SUMMARY:Social Ethics Club 125th Anniversary High Tea
DESCRIPTION:Come celebrate the anniversary of the first club in clear creek county!
URL:https://columbinegardenclub.com/event/125-anniversary-party/
LOCATION:Castle Eyrie\, 1828 Illinois Street\, Idaho Springs\, CO\, 80452\, United States
END:VEVENT
BEGIN:VEVENT
DTSTART;TZID=America/Denver:20250410T120000
DTEND;TZID=America/Denver:20250410T170000
DTSTAMP:20260423T154426
CREATED:20240911T191207Z
LAST-MODIFIED:20240911T191207Z
UID:1097-1744286400-1744304400@columbinegardenclub.com
SUMMARY:April Meeting
DESCRIPTION:Rain Barrels
URL:https://columbinegardenclub.com/event/april-meeting-3/
LOCATION:Elks Lodge Idaho Springs\, 1600 Colorado Blvd.\, Idaho Springs\, CO\, 80452\, United States
END:VEVENT
BEGIN:VEVENT
DTSTART;TZID=America/Denver:20250313T120000
DTEND;TZID=America/Denver:20250313T143000
DTSTAMP:20260423T154426
CREATED:20240911T191108Z
LAST-MODIFIED:20250109T221126Z
UID:1095-1741867200-1741876200@columbinegardenclub.com
SUMMARY:March Meeting
DESCRIPTION:Make a Terrarium with Debbi Novotny \nWe will make terrariums like the one pictured below.  Please bring a clear container.  All other materials will be provided.
URL:https://columbinegardenclub.com/event/march-meeting-3/
LOCATION:Elks Lodge Idaho Springs\, 1600 Colorado Blvd.\, Idaho Springs\, CO\, 80452\, United States
END:VEVENT
BEGIN:VEVENT
DTSTART;TZID=America/Denver:20250213T183000
DTEND;TZID=America/Denver:20250213T193000
DTSTAMP:20260423T154426
CREATED:20250202T224823Z
LAST-MODIFIED:20250202T224823Z
UID:1199-1739471400-1739475000@columbinegardenclub.com
SUMMARY:Brainstorming session for Elks landscaping
DESCRIPTION:This will be a casual brainstorming session where we’ll gather ideas for landscaping improvements\, including planting around the front porch and signage\, and seeking donations of plants and materials. Our goal is to finalize a plan that fits within our budget and can be completed before the July 4th weekend. \nCome with creative ideas\, and let’s make the Lodge even more welcoming! Looking forward to seeing you there.
URL:https://columbinegardenclub.com/event/brainstorming-session-for-elks-landscaping/
LOCATION:Elks Lodge Idaho Springs\, 1600 Colorado Blvd.\, Idaho Springs\, CO\, 80452\, United States
END:VEVENT
BEGIN:VEVENT
DTSTART;TZID=America/Denver:20250213T120000
DTEND;TZID=America/Denver:20250213T170000
DTSTAMP:20260423T154426
CREATED:20240911T191019Z
LAST-MODIFIED:20240911T191019Z
UID:1093-1739448000-1739466000@columbinegardenclub.com
SUMMARY:February Meeting
DESCRIPTION:Tree Trimming & Pruning by David LaCroix
URL:https://columbinegardenclub.com/event/february-meeting-3/
LOCATION:Elks Lodge Idaho Springs\, 1600 Colorado Blvd.\, Idaho Springs\, CO\, 80452\, United States
END:VEVENT
BEGIN:VEVENT
DTSTART;TZID=America/Denver:20250109T120000
DTEND;TZID=America/Denver:20250109T170000
DTSTAMP:20260423T154426
CREATED:20240911T190921Z
LAST-MODIFIED:20240911T190921Z
UID:1091-1736424000-1736442000@columbinegardenclub.com
SUMMARY:January Meeting
DESCRIPTION:“Dinner & Movie”
URL:https://columbinegardenclub.com/event/january-meeting-3/
LOCATION:Elks Lodge Idaho Springs\, 1600 Colorado Blvd.\, Idaho Springs\, CO\, 80452\, United States
END:VEVENT
BEGIN:VEVENT
DTSTART;TZID=America/Denver:20241214T130000
DTEND;TZID=America/Denver:20241214T170000
DTSTAMP:20260423T154426
CREATED:20240911T191509Z
LAST-MODIFIED:20240911T191509Z
UID:1101-1734181200-1734195600@columbinegardenclub.com
SUMMARY:Holiday Party
DESCRIPTION:
URL:https://columbinegardenclub.com/event/holiday-party/
LOCATION:Debbi Novotny’s Home\, 121 Mill Creek Road\, Dumont\, Colorado\, 80436
END:VEVENT
BEGIN:VEVENT
DTSTART;TZID=America/Denver:20241114T120000
DTEND;TZID=America/Denver:20241114T170000
DTSTAMP:20260423T154426
CREATED:20240911T190814Z
LAST-MODIFIED:20241014T230822Z
UID:1089-1731585600-1731603600@columbinegardenclub.com
SUMMARY:November Meeting
DESCRIPTION:Native Gardening and Landscaping by Casey Grimm \nWe will be collecting gifts for Santa’s workshop.
URL:https://columbinegardenclub.com/event/november-meeting-2/
LOCATION:Elks Lodge Idaho Springs\, 1600 Colorado Blvd.\, Idaho Springs\, CO\, 80452\, United States
END:VEVENT
BEGIN:VEVENT
DTSTART;TZID=America/Denver:20241028T150000
DTEND;TZID=America/Denver:20241028T170000
DTSTAMP:20260423T154426
CREATED:20241014T230714Z
LAST-MODIFIED:20241014T230714Z
UID:1103-1730127600-1730134800@columbinegardenclub.com
SUMMARY:Chee Chee Garden Weed and Wine
DESCRIPTION:Bring weeding tools and gloves.
URL:https://columbinegardenclub.com/event/chee-chee-garden-weed-and-wine/
LOCATION:Idaho Springs Visitor Center\, 2060 Miner St\, Idaho Springs\, CO\, 80452\, United States
END:VEVENT
END:VCALENDAR