BEGIN:VCALENDAR
VERSION:2.0
PRODID:-//Columbine Garden Club - ECPv6.15.20//NONSGML v1.0//EN
CALSCALE:GREGORIAN
METHOD:PUBLISH
X-ORIGINAL-URL:https://columbinegardenclub.com
X-WR-CALDESC:Events for Columbine Garden Club
REFRESH-INTERVAL;VALUE=DURATION:PT1H
X-Robots-Tag:noindex
X-PUBLISHED-TTL:PT1H
BEGIN:VTIMEZONE
TZID:America/Denver
BEGIN:DAYLIGHT
TZOFFSETFROM:-0700
TZOFFSETTO:-0600
TZNAME:MDT
DTSTART:20250309T090000
END:DAYLIGHT
BEGIN:STANDARD
TZOFFSETFROM:-0600
TZOFFSETTO:-0700
TZNAME:MST
DTSTART:20251102T080000
END:STANDARD
BEGIN:DAYLIGHT
TZOFFSETFROM:-0700
TZOFFSETTO:-0600
TZNAME:MDT
DTSTART:20260308T090000
END:DAYLIGHT
BEGIN:STANDARD
TZOFFSETFROM:-0600
TZOFFSETTO:-0700
TZNAME:MST
DTSTART:20261101T080000
END:STANDARD
BEGIN:DAYLIGHT
TZOFFSETFROM:-0700
TZOFFSETTO:-0600
TZNAME:MDT
DTSTART:20270314T090000
END:DAYLIGHT
BEGIN:STANDARD
TZOFFSETFROM:-0600
TZOFFSETTO:-0700
TZNAME:MST
DTSTART:20271107T080000
END:STANDARD
END:VTIMEZONE
BEGIN:VEVENT
DTSTART;TZID=America/Denver:20260312T120000
DTEND;TZID=America/Denver:20260312T143000
DTSTAMP:20260423T170603
CREATED:20250807T020521Z
LAST-MODIFIED:20260303T143122Z
UID:1402-1773316800-1773325800@columbinegardenclub.com
SUMMARY:March Meeting
DESCRIPTION:We will have a presentation on pollinators in the garden.
URL:https://columbinegardenclub.com/event/april-meeting-4/
LOCATION:Elks Lodge Idaho Springs\, 1600 Colorado Blvd.\, Idaho Springs\, CO\, 80452\, United States
END:VEVENT
BEGIN:VEVENT
DTSTART;TZID=America/Denver:20260409T120000
DTEND;TZID=America/Denver:20260409T143000
DTSTAMP:20260423T170603
CREATED:20250807T020328Z
LAST-MODIFIED:20260303T143544Z
UID:1400-1775736000-1775745000@columbinegardenclub.com
SUMMARY:April Meeting
DESCRIPTION:Tobi Howell and Michelle Tyler will help us make mosaics on stepping stones\, bricks or other items for the garden.  Bring an item to mosaic.  We will elect new officers for next year. \nApril 9 Meeting\n 
URL:https://columbinegardenclub.com/event/march-meeting-4/
LOCATION:Elks Lodge Idaho Springs\, 1600 Colorado Blvd.\, Idaho Springs\, CO\, 80452\, United States
END:VEVENT
BEGIN:VEVENT
DTSTART;TZID=America/Denver:20260409T180000
DTEND;TZID=America/Denver:20260409T200000
DTSTAMP:20260423T170603
CREATED:20260409T031744Z
LAST-MODIFIED:20260409T031744Z
UID:1585-1775757600-1775764800@columbinegardenclub.com
SUMMARY:April Evening Meeting
DESCRIPTION:We are trying out an evening meeting to accommodate members who work during the day and cannot attend our midday meetings.  We will continue working on our mosaic projects at this meeting and share some information about the club with new and potential members.
URL:https://columbinegardenclub.com/event/april-evening-meeting/
LOCATION:Elks Lodge Idaho Springs\, 1600 Colorado Blvd.\, Idaho Springs\, CO\, 80452\, United States
END:VEVENT
BEGIN:VEVENT
DTSTART;TZID=America/Denver:20260509T100000
DTEND;TZID=America/Denver:20260509T160000
DTSTAMP:20260423T170603
CREATED:20250807T021243Z
LAST-MODIFIED:20250807T021243Z
UID:1406-1778320800-1778342400@columbinegardenclub.com
SUMMARY:Plant Giveaway and Bake Sale
DESCRIPTION:We will be partnering with the Social Ethics club to put on this event.  Please donate plants and/or baked goods if you are willing.
URL:https://columbinegardenclub.com/event/plant-giveaway-and-bake-sale-2/
LOCATION:Project Support Senior Center\, 1402 Miner St\, Idaho Springs\, CO\, 80452\, United States
END:VEVENT
BEGIN:VEVENT
DTSTART;TZID=America/Denver:20260514T120000
DTEND;TZID=America/Denver:20260514T143000
DTSTAMP:20260423T170603
CREATED:20250807T020847Z
LAST-MODIFIED:20250807T020847Z
UID:1404-1778760000-1778769000@columbinegardenclub.com
SUMMARY:May Meeting
DESCRIPTION:Create a seed library to be installed in the community.  This will be similar to a little book library but will contain a variety of seeds with information about how to plant and care for them.  We will also install the new officers.
URL:https://columbinegardenclub.com/event/may-meeting-4/
LOCATION:Elks Lodge Idaho Springs\, 1600 Colorado Blvd.\, Idaho Springs\, CO\, 80452\, United States
END:VEVENT
BEGIN:VEVENT
DTSTART;TZID=America/Denver:20260604T150000
DTEND;TZID=America/Denver:20260604T163000
DTSTAMP:20260423T170603
CREATED:20250807T021837Z
LAST-MODIFIED:20260420T140937Z
UID:1412-1780585200-1780590600@columbinegardenclub.com
SUMMARY:CGC Members and Friends only Plant Sale
DESCRIPTION:
URL:https://columbinegardenclub.com/event/cgc-members-and-friends-only-plant-sale-2/
LOCATION:Idaho Springs Visitor Center\, 2060 Miner St.\, Idaho Springs\, CO\, 80452-5101\, United States
END:VEVENT
BEGIN:VEVENT
DTSTART;TZID=America/Denver:20260604T163000
DTEND;TZID=America/Denver:20260604T180000
DTSTAMP:20260423T170603
CREATED:20260420T141057Z
LAST-MODIFIED:20260420T141057Z
UID:1631-1780590600-1780596000@columbinegardenclub.com
SUMMARY:Post friends and family plant sale happy hour
DESCRIPTION:
URL:https://columbinegardenclub.com/event/post-friends-and-family-plant-sale-happy-hour/
LOCATION:Slaymaker Cellars\, 1428 Miner St\, Idaho Springs\, CO\, 80452\, United States
END:VEVENT
BEGIN:VEVENT
DTSTART;TZID=America/Denver:20260605T100000
DTEND;TZID=America/Denver:20260605T160000
DTSTAMP:20260423T170603
CREATED:20250807T021642Z
LAST-MODIFIED:20260415T031835Z
UID:1408-1780653600-1780675200@columbinegardenclub.com
SUMMARY:CGC Annual Plant Sale
DESCRIPTION:
URL:https://columbinegardenclub.com/event/cgc-annual-plant-sale-3/
LOCATION:Idaho Springs Visitor Center\, 2060 Miner St.\, Idaho Springs\, CO\, 80452-5101\, United States
END:VEVENT
BEGIN:VEVENT
DTSTART;TZID=America/Denver:20260606T100000
DTEND;TZID=America/Denver:20260606T150000
DTSTAMP:20260423T170603
CREATED:20250807T021735Z
LAST-MODIFIED:20260415T031803Z
UID:1410-1780740000-1780758000@columbinegardenclub.com
SUMMARY:CGC Annual Plant Sale
DESCRIPTION:
URL:https://columbinegardenclub.com/event/cgc-annual-plant-sale-4/
LOCATION:Idaho Springs Visitor Center\, 2060 Miner St.\, Idaho Springs\, CO\, 80452-5101\, United States
END:VEVENT
END:VCALENDAR