BEGIN:VCALENDAR
VERSION:2.0
PRODID:-//Columbine Garden Club - ECPv6.15.20//NONSGML v1.0//EN
CALSCALE:GREGORIAN
METHOD:PUBLISH
X-WR-CALNAME:Columbine Garden Club
X-ORIGINAL-URL:https://columbinegardenclub.com
X-WR-CALDESC:Events for Columbine Garden Club
REFRESH-INTERVAL;VALUE=DURATION:PT1H
X-Robots-Tag:noindex
X-PUBLISHED-TTL:PT1H
BEGIN:VTIMEZONE
TZID:America/Denver
BEGIN:DAYLIGHT
TZOFFSETFROM:-0700
TZOFFSETTO:-0600
TZNAME:MDT
DTSTART:20220313T090000
END:DAYLIGHT
BEGIN:STANDARD
TZOFFSETFROM:-0600
TZOFFSETTO:-0700
TZNAME:MST
DTSTART:20221106T080000
END:STANDARD
BEGIN:DAYLIGHT
TZOFFSETFROM:-0700
TZOFFSETTO:-0600
TZNAME:MDT
DTSTART:20230312T090000
END:DAYLIGHT
BEGIN:STANDARD
TZOFFSETFROM:-0600
TZOFFSETTO:-0700
TZNAME:MST
DTSTART:20231105T080000
END:STANDARD
BEGIN:DAYLIGHT
TZOFFSETFROM:-0700
TZOFFSETTO:-0600
TZNAME:MDT
DTSTART:20240310T090000
END:DAYLIGHT
BEGIN:STANDARD
TZOFFSETFROM:-0600
TZOFFSETTO:-0700
TZNAME:MST
DTSTART:20241103T080000
END:STANDARD
BEGIN:DAYLIGHT
TZOFFSETFROM:-0700
TZOFFSETTO:-0600
TZNAME:MDT
DTSTART:20250309T090000
END:DAYLIGHT
BEGIN:STANDARD
TZOFFSETFROM:-0600
TZOFFSETTO:-0700
TZNAME:MST
DTSTART:20251102T080000
END:STANDARD
BEGIN:DAYLIGHT
TZOFFSETFROM:-0700
TZOFFSETTO:-0600
TZNAME:MDT
DTSTART:20260308T090000
END:DAYLIGHT
BEGIN:STANDARD
TZOFFSETFROM:-0600
TZOFFSETTO:-0700
TZNAME:MST
DTSTART:20261101T080000
END:STANDARD
END:VTIMEZONE
BEGIN:VEVENT
DTSTART;TZID=America/Denver:20250109T120000
DTEND;TZID=America/Denver:20250109T170000
DTSTAMP:20260423T183223
CREATED:20240911T190921Z
LAST-MODIFIED:20240911T190921Z
UID:1091-1736424000-1736442000@columbinegardenclub.com
SUMMARY:January Meeting
DESCRIPTION:“Dinner & Movie”
URL:https://columbinegardenclub.com/event/january-meeting-3/
LOCATION:Elks Lodge Idaho Springs\, 1600 Colorado Blvd.\, Idaho Springs\, CO\, 80452\, United States
END:VEVENT
BEGIN:VEVENT
DTSTART;TZID=America/Denver:20241214T130000
DTEND;TZID=America/Denver:20241214T170000
DTSTAMP:20260423T183223
CREATED:20240911T191509Z
LAST-MODIFIED:20240911T191509Z
UID:1101-1734181200-1734195600@columbinegardenclub.com
SUMMARY:Holiday Party
DESCRIPTION:
URL:https://columbinegardenclub.com/event/holiday-party/
LOCATION:Debbi Novotny’s Home\, 121 Mill Creek Road\, Dumont\, Colorado\, 80436
END:VEVENT
BEGIN:VEVENT
DTSTART;TZID=America/Denver:20241114T120000
DTEND;TZID=America/Denver:20241114T170000
DTSTAMP:20260423T183223
CREATED:20240911T190814Z
LAST-MODIFIED:20241014T230822Z
UID:1089-1731585600-1731603600@columbinegardenclub.com
SUMMARY:November Meeting
DESCRIPTION:Native Gardening and Landscaping by Casey Grimm \nWe will be collecting gifts for Santa’s workshop.
URL:https://columbinegardenclub.com/event/november-meeting-2/
LOCATION:Elks Lodge Idaho Springs\, 1600 Colorado Blvd.\, Idaho Springs\, CO\, 80452\, United States
END:VEVENT
BEGIN:VEVENT
DTSTART;TZID=America/Denver:20241028T150000
DTEND;TZID=America/Denver:20241028T170000
DTSTAMP:20260423T183223
CREATED:20241014T230714Z
LAST-MODIFIED:20241014T230714Z
UID:1103-1730127600-1730134800@columbinegardenclub.com
SUMMARY:Chee Chee Garden Weed and Wine
DESCRIPTION:Bring weeding tools and gloves.
URL:https://columbinegardenclub.com/event/chee-chee-garden-weed-and-wine/
LOCATION:Idaho Springs Visitor Center\, 2060 Miner St\, Idaho Springs\, CO\, 80452\, United States
END:VEVENT
BEGIN:VEVENT
DTSTART;TZID=America/Denver:20241010T120000
DTEND;TZID=America/Denver:20241010T170000
DTSTAMP:20260423T183223
CREATED:20240911T190721Z
LAST-MODIFIED:20240911T190721Z
UID:1087-1728561600-1728579600@columbinegardenclub.com
SUMMARY:October Meeting
DESCRIPTION:Putting Your Garden to Bed by Linda Campbell
URL:https://columbinegardenclub.com/event/october-meeting-2/
LOCATION:Elks Lodge Idaho Springs\, 1600 Colorado Blvd.\, Idaho Springs\, CO\, 80452\, United States
END:VEVENT
BEGIN:VEVENT
DTSTART;TZID=America/Denver:20240912T120000
DTEND;TZID=America/Denver:20240912T170000
DTSTAMP:20260423T183223
CREATED:20240911T190616Z
LAST-MODIFIED:20240911T190616Z
UID:1085-1726142400-1726160400@columbinegardenclub.com
SUMMARY:September Meeting
DESCRIPTION:Evergreen Garden Tour Report\, By-Laws update and Introduction of Officers\, June Plant Sale Wrap-Up
URL:https://columbinegardenclub.com/event/september-meeting-2/
LOCATION:Elks Lodge Idaho Springs\, 1600 Colorado Blvd.\, Idaho Springs\, CO\, 80452\, United States
END:VEVENT
BEGIN:VEVENT
DTSTART;TZID=America/Denver:20240608T100000
DTEND;TZID=America/Denver:20240608T160000
DTSTAMP:20260423T183223
CREATED:20240531T140619Z
LAST-MODIFIED:20240531T140619Z
UID:1033-1717840800-1717862400@columbinegardenclub.com
SUMMARY:CGC Plant Sale
DESCRIPTION:
URL:https://columbinegardenclub.com/event/cgc-plant-sale-2/
LOCATION:Argo Mine\, 2350 Riverside Dr\, Idaho Springs\, CO\, 80452\, United States
END:VEVENT
BEGIN:VEVENT
DTSTART;TZID=America/Denver:20240607T100000
DTEND;TZID=America/Denver:20240607T160000
DTSTAMP:20260423T183223
CREATED:20230817T144612Z
LAST-MODIFIED:20240531T140453Z
UID:894-1717754400-1717776000@columbinegardenclub.com
SUMMARY:CGC Plant Sale
DESCRIPTION:
URL:https://columbinegardenclub.com/event/cgc-plant-sale/
LOCATION:Argo Mine\, 2350 Riverside Dr\, Idaho Springs\, CO\, 80452\, United States
END:VEVENT
BEGIN:VEVENT
DTSTART;TZID=America/Denver:20240606T160000
DTEND;TZID=America/Denver:20240606T180000
DTSTAMP:20260423T183223
CREATED:20240531T140835Z
LAST-MODIFIED:20240531T153359Z
UID:1035-1717689600-1717696800@columbinegardenclub.com
SUMMARY:CGC Plant Sale - members and guests sale and happy hour
DESCRIPTION:
URL:https://columbinegardenclub.com/event/cgc-plant-sale-members-only-sale-and-happy-hour/
LOCATION:Argo Mine\, 2350 Riverside Dr\, Idaho Springs\, CO\, 80452\, United States
END:VEVENT
BEGIN:VEVENT
DTSTART;TZID=America/Denver:20240511T100000
DTEND;TZID=America/Denver:20240511T160000
DTSTAMP:20260423T183223
CREATED:20230829T132714Z
LAST-MODIFIED:20240202T201901Z
UID:923-1715421600-1715443200@columbinegardenclub.com
SUMMARY:CGC/Social Ethics Bake Sale and Plant  Giveaway
DESCRIPTION:
URL:https://columbinegardenclub.com/event/cgc-social-ethics-bake-sale-and-plant-giveaway/
END:VEVENT
BEGIN:VEVENT
DTSTART;TZID=America/Denver:20240509T120000
DTEND;TZID=America/Denver:20240509T140000
DTSTAMP:20260423T183223
CREATED:20230817T144526Z
LAST-MODIFIED:20240325T133449Z
UID:892-1715256000-1715263200@columbinegardenclub.com
SUMMARY:May Meeting
DESCRIPTION:A presentation by Sundance Gardens in Evergreen\, topic TBD \nPlease RSVP to Linda at 303-898-8017 by May 9. \nWe will be accepting donations for Loaves & Fishes.
URL:https://columbinegardenclub.com/event/may-meeting-2/
LOCATION:Elks Lodge Idaho Springs\, 1600 Colorado Blvd.\, Idaho Springs\, CO\, 80452\, United States
END:VEVENT
BEGIN:VEVENT
DTSTART;TZID=America/Denver:20240420T100000
DTEND;TZID=America/Denver:20240420T130000
DTSTAMP:20260423T183223
CREATED:20240402T145508Z
LAST-MODIFIED:20240405T165241Z
UID:1021-1713607200-1713618000@columbinegardenclub.com
SUMMARY:Speed Dating with Local Garden Experts
DESCRIPTION:Learn things you need to know about gardening at this altitude: \n\nMountain Soils\nWeeds\nNative Plants\nPruning\nPollinators\nGrowing Veggies\nTerracing the Mountain\n\nThe local garden expert will present a few interesting details about the topic and then participants will get to ask  their own questions.  Participants spend 15 minutes at a table and then rotate to the next.  All are welcome.  Contact Wendy Binninger with questions at:  hulamiss@comcast.net or 720-273-0629.  Advance registration is required.  Register here or by calling 303-898-8017. \nPlease enable JavaScript in your browser to complete this form.Name *Last Name *Email *Register
URL:https://columbinegardenclub.com/event/speed-dating-with-local-garden-experts/
LOCATION:Elks Lodge Idaho Springs\, 1600 Colorado Blvd.\, Idaho Springs\, CO\, 80452\, United States
END:VEVENT
BEGIN:VEVENT
DTSTART;TZID=America/Denver:20240411T120000
DTEND;TZID=America/Denver:20240411T140000
DTSTAMP:20260423T183223
CREATED:20230817T144442Z
LAST-MODIFIED:20230914T210151Z
UID:890-1712836800-1712844000@columbinegardenclub.com
SUMMARY:April Meeting
DESCRIPTION:Air Plants presented by Nancy Spletzer \nNominations for Officers \nPlease RSVP to Linda at 303-898-8017 by April 5. \nWe will be accepting donations for Loaves & Fishes.
URL:https://columbinegardenclub.com/event/april-meeting-2/
LOCATION:Elks Lodge Idaho Springs\, 1600 Colorado Blvd.\, Idaho Springs\, CO\, 80452\, United States
END:VEVENT
BEGIN:VEVENT
DTSTART;TZID=America/Denver:20240314T120000
DTEND;TZID=America/Denver:20240314T140000
DTSTAMP:20260423T183223
CREATED:20230817T144401Z
LAST-MODIFIED:20230914T210230Z
UID:888-1710417600-1710424800@columbinegardenclub.com
SUMMARY:March Meeting
DESCRIPTION:Natives\, Xeric and High Altitude – presented by Sundance Gardens \nPlease RSVP to Linda at 303-898-8017 by March 8. \nWe will be accepting donations for Loaves & Fishes.
URL:https://columbinegardenclub.com/event/march-meeting-2/
LOCATION:Elks Lodge Idaho Springs\, 1600 Colorado Blvd.\, Idaho Springs\, CO\, 80452\, United States
END:VEVENT
BEGIN:VEVENT
DTSTART;TZID=America/Denver:20240208T120000
DTEND;TZID=America/Denver:20240208T140000
DTSTAMP:20260423T183223
CREATED:20230817T144325Z
LAST-MODIFIED:20230914T210412Z
UID:886-1707393600-1707400800@columbinegardenclub.com
SUMMARY:February Meeting
DESCRIPTION:Please RSVP to Linda at 303-898-8017 by February 1. \nWe will be accepting donations to Loaves and Fishes.
URL:https://columbinegardenclub.com/event/february-meeting/
LOCATION:Elks Lodge Idaho Springs\, 1600 Colorado Blvd.\, Idaho Springs\, CO\, 80452\, United States
END:VEVENT
BEGIN:VEVENT
DTSTART;TZID=America/Denver:20240111T120000
DTEND;TZID=America/Denver:20240111T140000
DTSTAMP:20260423T183223
CREATED:20230817T144234Z
LAST-MODIFIED:20230914T210449Z
UID:884-1704974400-1704981600@columbinegardenclub.com
SUMMARY:January Meeting
DESCRIPTION:“The Gardens of Darby O’Rourke” movie presented by Kris Miller. \nPlease RSVP to Linda at 303-898-8017 by January 5. \nWe will be accepting donations for Loaves & Fishes.
URL:https://columbinegardenclub.com/event/january-meeting-2/
LOCATION:Elks Lodge Idaho Springs\, 1600 Colorado Blvd.\, Idaho Springs\, CO\, 80452\, United States
END:VEVENT
BEGIN:VEVENT
DTSTART;TZID=America/Denver:20231216T140000
DTEND;TZID=America/Denver:20231216T170000
DTSTAMP:20260423T183223
CREATED:20230817T144158Z
LAST-MODIFIED:20230914T205016Z
UID:882-1702735200-1702746000@columbinegardenclub.com
SUMMARY:December Christmas Party and Santa Workshop Gifts
DESCRIPTION:Members please bring side dishes and a gift for santa’s workshop. \nMeats will be provided.
URL:https://columbinegardenclub.com/event/december-meeting/
LOCATION:Debbi Novotny’s Home\, 121 Mill Creek Road\, Dumont\, Colorado\, 80436
END:VEVENT
BEGIN:VEVENT
DTSTART;TZID=America/Denver:20231109T120000
DTEND;TZID=America/Denver:20231109T140000
DTSTAMP:20260423T183223
CREATED:20230817T144118Z
LAST-MODIFIED:20230914T210610Z
UID:880-1699531200-1699538400@columbinegardenclub.com
SUMMARY:November Meeting
DESCRIPTION:Bring a friend to the meeting – guest lunch is complimentary. \nThe topic is Time Saving Gardening Tips.  Please send your tips to Amy at ahtomlinson@me.com \nPlease RSVP to Linda at 303-898-8017 by November 3. \nWe will be accepting donations for Loaves & Fishes.
URL:https://columbinegardenclub.com/event/november-meeting/
LOCATION:Elks Lodge Idaho Springs\, 1600 Colorado Blvd.\, Idaho Springs\, CO\, 80452\, United States
END:VEVENT
BEGIN:VEVENT
DTSTART;TZID=America/Denver:20231012T120000
DTEND;TZID=America/Denver:20231012T140000
DTSTAMP:20260423T183223
CREATED:20230817T144034Z
LAST-MODIFIED:20230914T203913Z
UID:878-1697112000-1697119200@columbinegardenclub.com
SUMMARY:October Meeting
DESCRIPTION:Flower arranging workshop by Marigold Flowers – a make and take project \n  \nPlease RSVP for lunch to Linda at 303-898-8017 by October 10.
URL:https://columbinegardenclub.com/event/october-meeting/
LOCATION:Marigold flower shop\, 1620 Miner St\, Idaho Springs\, CO\, 80452\, United States
END:VEVENT
BEGIN:VEVENT
DTSTART;TZID=America/Denver:20230923T110000
DTEND;TZID=America/Denver:20230923T150000
DTSTAMP:20260423T183223
CREATED:20230916T230623Z
LAST-MODIFIED:20230916T230623Z
UID:946-1695466800-1695481200@columbinegardenclub.com
SUMMARY:Community Open House at the Underhill Museum
DESCRIPTION:Admission is free and there will be light refreshments served in the garden.  Please join us for a little bit of history.
URL:https://columbinegardenclub.com/event/community-open-house-at-the-underhill-museum/
END:VEVENT
BEGIN:VEVENT
DTSTART;TZID=America/Denver:20230922T093000
DTEND;TZID=America/Denver:20230922T120000
DTSTAMP:20260423T183223
CREATED:20230917T171641Z
LAST-MODIFIED:20230917T172123Z
UID:952-1695375000-1695384000@columbinegardenclub.com
SUMMARY:Fairy Gardens
DESCRIPTION:We need at least four volunteers to help kids make Fairy Gardens at the Idaho Springs public library Friday morning.  Please contact Amy Tomlinson if you can help (contact information at the bottom of this page.)
URL:https://columbinegardenclub.com/event/fairy-gardens/
LOCATION:Idaho Springs Public Library\, 219 14th Ave\, Idaho Springs\, CO\, 80452\, United States
END:VEVENT
BEGIN:VEVENT
DTSTART;TZID=America/Denver:20230919T160000
DTEND;TZID=America/Denver:20230919T180000
DTSTAMP:20260423T183223
CREATED:20230916T230447Z
LAST-MODIFIED:20230916T230447Z
UID:944-1695139200-1695146400@columbinegardenclub.com
SUMMARY:Weed and Mead
DESCRIPTION:We will weed anything that is encroaching on the sidewalk area.  Then\, off to The Meadery\, where Cris\nSlaymaker will host a mead tasting for us.
URL:https://columbinegardenclub.com/event/weed-and-mead/
LOCATION:Project Support Senior Center\, 1402 Miner St\, Idaho Springs\, CO\, 80452\, United States
END:VEVENT
BEGIN:VEVENT
DTSTART;TZID=America/Denver:20230914T120000
DTEND;TZID=America/Denver:20230914T140000
DTSTAMP:20260423T183223
CREATED:20230817T143946Z
LAST-MODIFIED:20230829T132842Z
UID:876-1694692800-1694700000@columbinegardenclub.com
SUMMARY:September Meeting
DESCRIPTION:Conradt Fredell will present his “Mountain Soils” program\nPlease RSVP for lunch to Linda at 303-898-8017 by Friday\, September 8th
URL:https://columbinegardenclub.com/event/september-meeting/
LOCATION:Underhill Museum\, 1414 Miner St\, Idaho Springs\, CO\, 80452\, United States
END:VEVENT
BEGIN:VEVENT
DTSTART;TZID=America/Denver:20230829T160000
DTEND;TZID=America/Denver:20230829T190000
DTSTAMP:20260423T183223
CREATED:20230824T135331Z
LAST-MODIFIED:20230824T135331Z
UID:916-1693324800-1693335600@columbinegardenclub.com
SUMMARY:"Weeds and Wine"  at the Chee Chee Bell Garden
DESCRIPTION:4:00 P.M.: Meet at the Idaho Springs Visitors Center to weed the nearby gardens.  Bring gloves\, weed digger or trowel\, clippers and/or kneeling pads if you have them. \n6:00 P.M. or sooner (after the weeding is complete) we will visit a local establishment for adult refreshment. \nRSVP not needed – just come if you can!
URL:https://columbinegardenclub.com/event/weeds-and-wine-at-the-chee-chee-bell-garden/
LOCATION:Idaho Springs Visitor Center\, 2060 Miner St\, Idaho Springs\, CO\, 80452\, United States
END:VEVENT
BEGIN:VEVENT
DTSTART;TZID=America/Denver:20230829T160000
DTEND;TZID=America/Denver:20230829T183000
DTSTAMP:20260423T183223
CREATED:20230917T170422Z
LAST-MODIFIED:20230917T170422Z
UID:948-1693324800-1693333800@columbinegardenclub.com
SUMMARY:Weeds and Wine
DESCRIPTION:We did some weeding and upkeep at the visitors center gardens and then enjoyed a refreshing beverage at the new Yards Taphouse just down the road.
URL:https://columbinegardenclub.com/event/weeds-and-wine/
LOCATION:Idaho Springs Visitor Center\, 2060 Miner St\, Idaho Springs\, CO\, 80452\, United States
ATTACH;FMTTYPE=image/jpeg:https://columbinegardenclub.com/wp-content/uploads/2023/01/IMG_4784-scaled.jpg
END:VEVENT
BEGIN:VEVENT
DTSTART;TZID=America/Denver:20230823T150000
DTEND;TZID=America/Denver:20230823T170000
DTSTAMP:20260423T183223
CREATED:20230816T195532Z
LAST-MODIFIED:20230816T195532Z
UID:870-1692802800-1692810000@columbinegardenclub.com
SUMMARY:Visit to the garden of Conradt Fredell
DESCRIPTION:We hope you can join us for a tour of Conradt Fredell’s garden. The garden includes sections for annual and perennial vegetables\, berries and trees\, a hops tower\, and a two-bin composting system is nearby. Irrigation provides supplemental water. \nYou may drive on your own\, or if you wish to carpool\, we can arrange that.  We will have tour by Conradt.  Please bring your own drinking water. \nPlease RSVP to Amy Tomlinson at ahtomlinson@me.com or 303-888-5429 by August 21st.
URL:https://columbinegardenclub.com/event/visit-to-the-garden-of-conradt-fredell/
LOCATION:Conradt Fredell\, 2368 Soda Creek Road\, Idaho Springs\, CO\, 80452\, United States
END:VEVENT
BEGIN:VEVENT
DTSTART;TZID=America/Denver:20230805T083000
DTEND;TZID=America/Denver:20230805T123000
DTSTAMP:20260423T183223
CREATED:20230719T145121Z
LAST-MODIFIED:20230719T145250Z
UID:837-1691224200-1691238600@columbinegardenclub.com
SUMMARY:Road Trip to Pollinator Gardens
DESCRIPTION:Get inspired when you see how people in Arvada are transforming their yard space into pollinator-friendly habitats on a self-guided tour featuring selected pollinator gardens across the City. Free. \nJoin your fellow Columbine Garden Club members on this tour! We will carpool from Idaho Springs\, departing at 8:30 a.m.\, returning sometime after noon.  If you live in the metro area\, you can meet us there. \nPlease RSVP to Amy Tomlinson \nCall 303-888-5429 or email ahtomlinson@me.com by Thursday\, August 3rd. \npollinator tour 2023
URL:https://columbinegardenclub.com/event/road-trip-to-pollinator-gardens/
END:VEVENT
BEGIN:VEVENT
DTSTART;VALUE=DATE:20230609
DTEND;VALUE=DATE:20230612
DTSTAMP:20260423T183223
CREATED:20230111T040040Z
LAST-MODIFIED:20230127T010513Z
UID:307-1686268800-1686527999@columbinegardenclub.com
SUMMARY:Annual plant sale
DESCRIPTION:
URL:https://columbinegardenclub.com/event/june-meeting/
LOCATION:Argo Mine\, 2350 Riverside Dr\, Idaho Springs\, CO\, 80452\, United States
END:VEVENT
BEGIN:VEVENT
DTSTART;VALUE=DATE:20230608
DTEND;VALUE=DATE:20230609
DTSTAMP:20260423T183223
CREATED:20230326T171547Z
LAST-MODIFIED:20230514T141126Z
UID:717-1686182400-1686268799@columbinegardenclub.com
SUMMARY:City of Idaho Springs Planting Day
DESCRIPTION:
URL:https://columbinegardenclub.com/event/city-of-idaho-springs-planting-day/
END:VEVENT
BEGIN:VEVENT
DTSTART;TZID=America/Denver:20230513T100000
DTEND;TZID=America/Denver:20230513T150000
DTSTAMP:20260423T183223
CREATED:20230129T062323Z
LAST-MODIFIED:20230420T193746Z
UID:505-1683972000-1683990000@columbinegardenclub.com
SUMMARY:2023 Plant Giveaway and Bake Sale
DESCRIPTION:This event is held in conjunction with Social Ethics to raise money for both clubs.\nContributions of plants and baked goods will be needed.\nTo volunteer on the day of the sale contact Kris Miller at 303-567-9653.
URL:https://columbinegardenclub.com/event/2023-plant-giveaway-and-bake-sale/
LOCATION:Project Support Senior Center\, 1402 Miner St\, Idaho Springs\, CO\, 80452\, United States
END:VEVENT
END:VCALENDAR