BEGIN:VCALENDAR
VERSION:2.0
PRODID:-//Columbine Garden Club - ECPv6.15.20//NONSGML v1.0//EN
CALSCALE:GREGORIAN
METHOD:PUBLISH
X-WR-CALNAME:Columbine Garden Club
X-ORIGINAL-URL:https://columbinegardenclub.com
X-WR-CALDESC:Events for Columbine Garden Club
REFRESH-INTERVAL;VALUE=DURATION:PT1H
X-Robots-Tag:noindex
X-PUBLISHED-TTL:PT1H
BEGIN:VTIMEZONE
TZID:America/Denver
BEGIN:DAYLIGHT
TZOFFSETFROM:-0700
TZOFFSETTO:-0600
TZNAME:MDT
DTSTART:20220313T090000
END:DAYLIGHT
BEGIN:STANDARD
TZOFFSETFROM:-0600
TZOFFSETTO:-0700
TZNAME:MST
DTSTART:20221106T080000
END:STANDARD
BEGIN:DAYLIGHT
TZOFFSETFROM:-0700
TZOFFSETTO:-0600
TZNAME:MDT
DTSTART:20230312T090000
END:DAYLIGHT
BEGIN:STANDARD
TZOFFSETFROM:-0600
TZOFFSETTO:-0700
TZNAME:MST
DTSTART:20231105T080000
END:STANDARD
BEGIN:DAYLIGHT
TZOFFSETFROM:-0700
TZOFFSETTO:-0600
TZNAME:MDT
DTSTART:20240310T090000
END:DAYLIGHT
BEGIN:STANDARD
TZOFFSETFROM:-0600
TZOFFSETTO:-0700
TZNAME:MST
DTSTART:20241103T080000
END:STANDARD
END:VTIMEZONE
BEGIN:VTIMEZONE
TZID:UTC
BEGIN:STANDARD
TZOFFSETFROM:+0000
TZOFFSETTO:+0000
TZNAME:UTC
DTSTART:20220101T000000
END:STANDARD
END:VTIMEZONE
BEGIN:VEVENT
DTSTART;TZID=America/Denver:20230209T120000
DTEND;TZID=America/Denver:20230209T140000
DTSTAMP:20260423T165629
CREATED:20230111T053014Z
LAST-MODIFIED:20230130T213027Z
UID:322-1675944000-1675951200@columbinegardenclub.com
SUMMARY:February Meeting
DESCRIPTION:Senior Center Love Offering – putting bags together for seniors.    The Menu: Chili and Cornbread
URL:https://columbinegardenclub.com/event/february-meeting-2/
LOCATION:Elks Lodge Idaho Springs\, 1600 Colorado Blvd.\, Idaho Springs\, CO\, 80452\, United States
END:VEVENT
BEGIN:VEVENT
DTSTART;TZID=America/Denver:20230128T100000
DTEND;TZID=America/Denver:20230128T110000
DTSTAMP:20260423T165629
CREATED:20230127T010416Z
LAST-MODIFIED:20230127T010416Z
UID:493-1674900000-1674903600@columbinegardenclub.com
SUMMARY:Selection of Offerings for Plant Sale
DESCRIPTION: If you were at the January meeting and put your name and plant preferences on the sheet\, we will include those if we are able. Also\, please think ahead about volunteering to plan and execute the plant sale at The\nArgo Mill Barn.  Sale is Friday\, June 9 through Sunday\, June 11.
URL:https://columbinegardenclub.com/event/selection-of-offerings-for-plant-sale/
LOCATION:Frothy Cup\, 1510 Miner St.\, Idaho Springs\, CO\, 80452\, United States
END:VEVENT
BEGIN:VEVENT
DTSTART;TZID=UTC:20230112T120000
DTEND;TZID=UTC:20230112T120000
DTSTAMP:20260423T165629
CREATED:20230111T035155Z
LAST-MODIFIED:20230111T035155Z
UID:295-1673524800-1673524800@columbinegardenclub.com
SUMMARY:January Meeting
DESCRIPTION:Raised Bed Gardening – Amy Tomlinson
URL:https://columbinegardenclub.com/event/january-meeting/
LOCATION:Elks Lodge Idaho Springs\, 1600 Colorado Blvd.\, Idaho Springs\, CO\, 80452\, United States
END:VEVENT
END:VCALENDAR